BEGIN:VCALENDAR
VERSION:2.0
PRODID:GIGPRESS 2.0 WORDPRESS PLUGIN
CALSCALE:GREGORIAN
X-WR-TIMEZONE:Etc/GMT
METHOD:PUBLISH
BEGIN:VTIMEZONE
TZID:GMT
BEGIN:STANDARD
DTSTART:20071028T010000
TZOFFSETTO:+0000
TZOFFSETFROM:+0000
END:STANDARD
END:VTIMEZONE
BEGIN:VEVENT
SUMMARY:La Clairière à Théâtre de l'Oulle / La Factory Avignon
DESCRIPTION:Tournée: La Clairière. All Ages
LOCATION:Théâtre de l'Oulle / La Factory Avignon\, 19 place Crillon\, Avignon\, FR
UID:20260713T133000Z-773-contact@arnaudliotard.fr
URL:http://www.compagnie-des-lucioles.fr/agenda/
DTSTART;VALUE=DATE-TIME;TZID=GMT:20260713T133000Z
DTEND;VALUE=DATE-TIME;TZID=GMT:20260713T133000Z
DTSTAMP:20260423T101137Z
END:VEVENT
END:VCALENDAR