BEGIN:VCALENDAR
VERSION:2.0
PRODID:GIGPRESS 2.0 WORDPRESS PLUGIN
CALSCALE:GREGORIAN
X-WR-TIMEZONE:Etc/GMT
METHOD:PUBLISH
BEGIN:VTIMEZONE
TZID:GMT
BEGIN:STANDARD
DTSTART:20071028T010000
TZOFFSETTO:+0000
TZOFFSETFROM:+0000
END:STANDARD
END:VTIMEZONE
BEGIN:VEVENT
SUMMARY:Magistrales à Collège Saint-Paul
DESCRIPTION:Tournée: Magistrales !. All Ages
LOCATION:Collège Saint-Paul\, Soissons\, FR
UID:20260601T120000Z-786-contact@arnaudliotard.fr
URL:http://www.compagnie-des-lucioles.fr/agenda/
DTSTART;VALUE=DATE-TIME;TZID=GMT:20260601T120000Z
DTEND;VALUE=DATE-TIME;TZID=GMT:20260601T120000Z
DTSTAMP:20260423T100907Z
END:VEVENT
END:VCALENDAR